BEGIN:VCALENDAR
VERSION:2.0
METHOD:PUBLISH
BEGIN:VEVENT
UID:WILD_APRICOT_EVENT_1715981_SESSION_1
DTSTART:20140817T010000Z
DTEND:20140817T030000Z
SUMMARY:Breakfast at the Weir
LOCATION:Mundaring Weir Hotel
DESCRIPTION:https://www.bmwclubwa.asn.au/event-1715981\n\nPlease view attached file for more detail\n   \n  Breakfast at the Weir 2014.docx\n
DTSTAMP:20190228T231639Z
END:VEVENT
END:VCALENDAR
