BEGIN:VCALENDAR
VERSION:2.0
METHOD:PUBLISH
BEGIN:VEVENT
UID:WILD_APRICOT_EVENT_1771403_SESSION_1
DTSTART:20141023T090000Z
DTEND:20141023T120000Z
SUMMARY:Track Day Test Drive
LOCATION:RAC Driving Centre\, 48 Grogan Road\, Perth International Airport
DESCRIPTION:https://www.bmwclubwa.asn.au/event-1771403\n\nThis event is designed to give you just a little taste of what it's like to take your BMW out onto a race track and use it enthusiastically in a safe motorsport setting.\n  MC Motorsport\, who manage the RAC Driving Centre\, will provide club members with a convoy-style tour of the race track\, where you can start to learn the racing lines and get a feel for what it would be like to have a club track event at the Centre.\n  Our hosts will also give us a presentation on the facilities and possibilities for events in the near future\, and one lucky member will win a ride in a V8 Supercar\, to be taken right there and then.\n  After the Q & A session\, the Club will host a sausage sizzle for attendees while we digest what we've just learned.\n  This will be a great opportunity to get a little track time for free and to see what more you might like to do with your BMW. And for those who think it might not be for them\, no-one is forced to go faster than they're comfortable with\, or flog their valuable machinery if they don't want to.\n  For catering and planning purposes\, we'll need you to register your attendance on this website.\n\n
DTSTAMP:20190228T231505Z
END:VEVENT
END:VCALENDAR
