BEGIN:VCALENDAR
VERSION:2.0
METHOD:PUBLISH
BEGIN:VEVENT
UID:WILD_APRICOT_EVENT_1809909_SESSION_1
DTSTART:20150215T013000Z
DTEND:20150215T040000Z
SUMMARY:Summer Sunday Breakfast
LOCATION:Penny Garden Restaurant 4752\, West Swan Rd\, Swan Valley
DESCRIPTION:https://www.bmwclubwa.asn.au/event-1809909\n\nStart the 2015 Club Calendar of Events with a relaxed Sunday Breakfast with fellow Club members and friends at the Penny Garden Restaurant in the Swan Valley.\n  Be welcomed with glass of champagne compliments of the Club\, and plan to enjoy the attractions of the Swan Valley after breakfast.\n  RSVP now closed as we have reached the booking limit of 36 people. Event queries to president@bmwclubwa.asn.au\n\n
DTSTAMP:20260424T162518Z
END:VEVENT
END:VCALENDAR
