BEGIN:VCALENDAR
VERSION:2.0
METHOD:PUBLISH
BEGIN:VEVENT
UID:WILD_APRICOT_EVENT_1809914_SESSION_1
DTSTART:20150228T110000Z
DTEND:20150228T140000Z
SUMMARY:Dinner with Mother India
LOCATION:Mother India's Restaurant\, 23 Forrest St\, Fremantle
DESCRIPTION:https://www.bmwclubwa.asn.au/event-1809914\n\nAn Indian cafe/restaurant\, Mother India provides a very popular authentic Indian cuisine and comes recommended.\n  It's BYO and charges no corkage. It also only takes cash so bring the necessary with you. Our hosts suggest that the $33 Banquet is the way to go and we will book out the rear dining room exclusively for Club members. Arrivals should be from 7.00 pm for a 7.30 pm start.\n\n  This will definitely be an RSVP occasion\, which we will call for in early February.\n\n
DTSTAMP:20190228T231420Z
END:VEVENT
END:VCALENDAR
