BEGIN:VCALENDAR
VERSION:2.0
METHOD:PUBLISH
BEGIN:VEVENT
UID:WILD_APRICOT_EVENT_1809915_SESSION_1
DTSTART:20150310T103000Z
DTEND:20150310T130000Z
SUMMARY:Technical Night at BM Techniks
LOCATION:9A Mooney Street\, Bayswater
DESCRIPTION:https://www.bmwclubwa.asn.au/event-1809915\n\nClub Member and BMW Tuner Andrew Prior will host a technical evening at his premises in Bayswater for members to see the facilities and hear the latest in tuning and repairing BMW's.\n  The date of this event is now firm and if you wish to attend please direct an RSVP to: president@bmwclubwa.asn.au\n
DTSTAMP:20190228T231408Z
END:VEVENT
END:VCALENDAR
