BEGIN:VCALENDAR
VERSION:2.0
METHOD:PUBLISH
BEGIN:VEVENT
UID:WILD_APRICOT_EVENT_1809916_SESSION_1
DTSTART:20150419T020000Z
DTEND:20150419T080000Z
SUMMARY:Frank's Poker Run 2015
LOCATION:Unknown\, but commencing from Auto Classic
DESCRIPTION:https://www.bmwclubwa.asn.au/event-1809916\n\nFrank Moore's Famous Poker Run is on again.\n  Start from Auto Classic with a set of clues and drive to a series of intermediate locations to receive a playing card at each point\, then drive to the final\, lunch destination to receive your final card\, hopefully to make up a poker hand better than anyone else's to win the prize.\n  It's always fun.\n\n    Cars will leave from Auto Classic from 10:15 am to 10:30 am. The whole event runs to a timetable\, so please don’t be late at the start.\n   The finish will be at the Indian Ocean Brewhaus and Grill\, Mindarie Marina. The venue is licensed and drinks and meals can be ordered and paid for at the counter.\n   Tables have been booked\, but we need to know who and how many\, so your early reply would be appreciated. Even if you are not taking part in the event but want to join us for lunch\, please let us know.\n\n  
DTSTAMP:20190228T231259Z
END:VEVENT
END:VCALENDAR
