BEGIN:VCALENDAR
VERSION:2.0
METHOD:PUBLISH
BEGIN:VEVENT
UID:WILD_APRICOT_EVENT_1888136_SESSION_1
DTSTART:20150517T014500Z
DTEND:20150517T090000Z
SUMMARY:British Car Day
LOCATION:Gingin
DESCRIPTION:https://www.bmwclubwa.asn.au/event-1888136\n\nA Club Run to the British Car Day at Gingin\, starting from Guildford 09.45AM and arriving as a convoy for the opportunity to see the great British marques\, followed by lunch in Chittering for Club Members that have responded to the event notice request for an RSVP.\n  \n\n
DTSTAMP:20260424T162658Z
END:VEVENT
END:VCALENDAR
