BEGIN:VCALENDAR
VERSION:2.0
METHOD:PUBLISH
BEGIN:VEVENT
UID:WILD_APRICOT_EVENT_1888143_SESSION_1
DTSTART:20150528T160000Z
DTEND:20150601T160000Z
SUMMARY:The Long Weekend Away
LOCATION:Busselton and Surrounds
DESCRIPTION:https://www.bmwclubwa.asn.au/event-1888143\n\nAlbany and the Great Southern - No\, we've been there and done that. This year we're heading for the SouthWest to enjoy the long weekend there\, while all the revheads are over in Albany.\n  The preliminary schedule indicates a drive to Collie via Williams on Friday\, then heading to our main accommodation at Busselton for Saturday and Sunday nights. Dunsborough\, Yallingup and Margaret River lie within easy driving distance\, together with all that that implies - wineries\, breweries\, chocolate and cheese factories\, beaches and scenery.\n  Monday allows an easy drive home\, possibly including a visit to Gnomesville. Yes\, folks\, Gnomesville.\n  Stay tuned for more information and be prepared to RSVP to reserve your spot.\n\n
DTSTAMP:20190228T231226Z
END:VEVENT
END:VCALENDAR
