BEGIN:VCALENDAR
VERSION:2.0
METHOD:PUBLISH
BEGIN:VEVENT
UID:WILD_APRICOT_EVENT_1888153_SESSION_1
DTSTART:20150816T000000Z
DTEND:20150816T063000Z
SUMMARY:Shannons Classics on the Park - Display
LOCATION:Auto Classic BMW then Langley Park\, Perth
DESCRIPTION:https://www.bmwclubwa.asn.au/event-1888153\n\nPut your BMW on display on Langley Park and enjoy watching the VSCC Classic Sprint up and down Riverside Drive (the old bangers and classic sports cars) then stay for the real deal\, the Targa West field of Classic and Modern tarmac rally cars making some real noise as they use the city streets as part of the final stage of the Targa West event.\n  RSVP to Mike Wakefield mp.wakefield@optusnet.com.au by Friday the 10th August.\n\n
DTSTAMP:20190228T231129Z
END:VEVENT
END:VCALENDAR
