BEGIN:VCALENDAR
VERSION:2.0
METHOD:PUBLISH
BEGIN:VEVENT
UID:WILD_APRICOT_EVENT_1888154_SESSION_1
DTSTART:20150502T070000Z
DTEND:20150502T100000Z
SUMMARY:BMW Club WA Motorsport Event 1 - Tuning Day
LOCATION:RAC Driving Centre\, 16 Grogan Road\, Perth International Airport
DESCRIPTION:https://www.bmwclubwa.asn.au/event-1888154\n\nPractise your driving skills and receive tuition on a fully-fledged race track. A full afternoon of fun in your road car with minimal preparation and scrutineering requirements. The most fun you can legally have in your car and an opportunity to use your BMW in a way that it was designed for.\nWe have included the services of an instructor to show you the right lines and braking points on the track and any insights on driving techniques.  The Club will also provide cold drinks during the session.\n  Please register to attend and pay on the website. The cost is $105.\n\nGuests are welcome to be registered but members will take precedence if we are over-subscribed.  The first 16 registrations will get track time.\n  Latest News (10 April) - we are now fully subscribed. If you still wish to register\, you will be put on the waiting list in case anyone above you has to withdraw. I suggest that if you choose to register\, please do so but don't complete the payment process\, until I can confirm that there is a place for you.\n\n\n  \n\n
DTSTAMP:20190228T231248Z
END:VEVENT
END:VCALENDAR
