BEGIN:VCALENDAR
VERSION:2.0
METHOD:PUBLISH
BEGIN:VEVENT
UID:WILD_APRICOT_EVENT_1888159_SESSION_1
DTSTART:20150904T080000Z
DTEND:20150904T140000Z
SUMMARY:BMW Club WA Motorsport Event 3 - Driver Training Day
LOCATION:Barbagallo Raceway\, Wattle Avenue\, Neerabup
DESCRIPTION:https://www.bmwclubwa.asn.au/event-1888159\n\nOur traditional annual event at Barbagallo\, in conjunction with our revhead colleagues from the WRX Club.\n  Proper instruction on driving techniques and racing lines for the track\, then as many untimed solo laps as you and your BMW can handle on either the short or long track\, or both. Done under lights as the night closes in\, for extra fun.\n  Room for 15 BMW Club members at $120 each.\n  Please register and pay to confirm your attendance. Spots will be allocated in the order that registrations are received. Registration No. 16 and above will be held in reserve in case of cancellations\, and payments will be refunded if reserves are unable to obtain a place.\n\n
DTSTAMP:20190228T231117Z
END:VEVENT
END:VCALENDAR
