BEGIN:VCALENDAR
VERSION:2.0
METHOD:PUBLISH
BEGIN:VEVENT
UID:WILD_APRICOT_EVENT_1948422_SESSION_1
DTSTART:20150714T110000Z
DTEND:20150714T130000Z
SUMMARY:Alfred's Kitchen Burger Run
LOCATION:Alfred's Kitchen\, James Street Guildford
DESCRIPTION:https://www.bmwclubwa.asn.au/event-1948422\n\nMake your own way to the famous Alfred's Kitchen Burger Bar in James Street\, Guildford (where the log fire burns all night) for an evening of burgers\, soup\, chips and all those other roadside foods that keep you warm while you swap stories with other Club members.\n  Bring a folding chair and your own drinks and glasses\, in case the seats around the log fire get a bit crowded.\n  It's outdoors and it's winter so it's a bit cool. Rug up and you'll be OK - we've never been rained out yet.\n  Wear your membership badges so we can find you and keep a space for you by the fire.\n\n
DTSTAMP:20190228T231152Z
END:VEVENT
END:VCALENDAR
