BEGIN:VCALENDAR
VERSION:2.0
METHOD:PUBLISH
BEGIN:VEVENT
UID:WILD_APRICOT_EVENT_1948434_SESSION_1
DTSTART:20151025T020000Z
DTEND:20151025T070000Z
SUMMARY:BMW Club WA Show'N'Shine
LOCATION:Manners Hill Park\, Peppermint Grove
DESCRIPTION:https://www.bmwclubwa.asn.au/event-1948434\n\nThe Ultimate Club Car Display in a delightful picnic environment near the Swan River in Peppermint Grove.\n  Bring your car along\, park it under the trees (there's plenty of shade for cars and picnics) and enter it in the judging for the best-kept BMW. Prizes are awarded to those who enter\, but it's not mandatory.\n  A kiosk is located nearby for those who don't bring their own picnic and kids can swim at the beach in Freshwater Bay. A perfect spring activity\, picnicking under the peppermint trees by the river.\n\n
DTSTAMP:20190228T230956Z
END:VEVENT
END:VCALENDAR
