BEGIN:VCALENDAR
VERSION:2.0
METHOD:PUBLISH
BEGIN:VEVENT
UID:WILD_APRICOT_EVENT_1948442_SESSION_1
DTSTART:20151004T010000Z
DTEND:20151004T073000Z
SUMMARY:Rotary Club of Como - South Perth Car Show
LOCATION:Wesley College Playing Fields\, Angelo Street South Perth
DESCRIPTION:https://www.bmwclubwa.asn.au/event-1948442\n\nA static display of all manners of cars\, new and old\, high-tech and vintage\, including BMW Club WA cars.\n  Members who display their cars are admitted free\, while spectators will pay a small fee for fundraising purposes to view the wide variety of exotic and interesting vehicles.\n  The cafe strip in Angelo Street is close by for those chasing coffee and muffins\, or something more substantial. A small bar has just opened across the road and will be open in the afternoon.\n  We will have our Club gazebo with us to sit in the shade if we have a hot day\, though there is plenty of shade and sustenance nearby.\n  The official brochure provides more information.\n\n
DTSTAMP:20190228T231043Z
END:VEVENT
END:VCALENDAR
