BEGIN:VCALENDAR
VERSION:2.0
METHOD:PUBLISH
BEGIN:VEVENT
UID:WILD_APRICOT_EVENT_1948450_SESSION_1
DTSTART:20150705T020000Z
DTEND:20150705T073000Z
SUMMARY:York Motor Show
LOCATION:The Main Streets of York
DESCRIPTION:https://www.bmwclubwa.asn.au/event-1948450\n\nA display of interesting vehicles of all kinds in the main street of York.\n  The Club will run as a convoy to York\, starting from Auto Classic at 9.00 am\, before parking to display our cars. Lunch will be available from the shops and hotels of York and picnics can be held in the park.\n  Please RSVP by 26 June to president@bmwclubwa.asn.au if you are planning to come to this relaxed and enjoyable event.\n
DTSTAMP:20190228T231203Z
END:VEVENT
END:VCALENDAR
