BEGIN:VCALENDAR
VERSION:2.0
METHOD:PUBLISH
BEGIN:VEVENT
UID:WILD_APRICOT_EVENT_1948460_SESSION_1
DTSTART:20150920T013000Z
DTEND:20150920T033000Z
SUMMARY:Breakfast in the Hills
LOCATION:Embers Restaurant\, 169 Railway Rd\, Gooseberry Hill WA 6076\, Australia
DESCRIPTION:https://www.bmwclubwa.asn.au/event-1948460\n\nJoin us for breakfast at Embers Restaurant in Gooseberry Hill in early Spring.\n  This time we will meet at the restaurant at 9.30 am\, then\, for those who feel up to it\, there will be a pleasant drive through the hills lined up after the leisurely  breakfast.\n  We have 20 places reserved at the restaurant so will need you to RSVP to Stephen Hinsley before 13 September to have a place set aside for you\, on Stephen.Hinsley@hhbiz.com.au .\n\n  \n\n  \n\n  \n\n
DTSTAMP:20260424T162713Z
END:VEVENT
END:VCALENDAR
