BEGIN:VCALENDAR
VERSION:2.0
METHOD:PUBLISH
BEGIN:VEVENT
UID:WILD_APRICOT_EVENT_1948462_SESSION_1
DTSTART:20151017T010000Z
DTEND:20151017T040000Z
SUMMARY:Club Dyno Day
LOCATION:Tim Slako's Automotive Improvements\, Unit 5\, 6 O'Malley Street Osborne Park.
DESCRIPTION:https://www.bmwclubwa.asn.au/event-1948462\n\nBring your favourite BMW to Tim Slako's dyno on Saturday morning 17 October and have its power checked. See if it is still putting out the factory-specified kilowatts or if those performance mods you've made have produced the extra power you've hoped for.\n  Tim's dyno is set up for rear-wheel drive so your turn on the rollers is simple and trouble-free. Each run costs $75 and payment is via cash on the day.\n\n  \n\n
DTSTAMP:20190228T231031Z
END:VEVENT
END:VCALENDAR
