BEGIN:VCALENDAR
VERSION:2.0
METHOD:PUBLISH
BEGIN:VEVENT
UID:WILD_APRICOT_EVENT_1948463_SESSION_1
DTSTART:20151018T010000Z
DTEND:20151018T090000Z
SUMMARY:Avon Classic Rally
LOCATION:In and around York.
DESCRIPTION:https://www.bmwclubwa.asn.au/event-1948463\n\nA fun driving event in a rally format\, with navigation tests thrown in.\n  Those who participated last year said it was a lot of fun and worth doing again.\n  The details of the the event are in the attached flyer Avon Classic Rally.pub2015.pdf  for those who wish to attend but\, due to the late notice and our otherwise crowded club calendar\, our Club will not be participating officially. But members are free to go on the rally if they wish.\n\n
DTSTAMP:20190228T231008Z
END:VEVENT
END:VCALENDAR
