BEGIN:VCALENDAR
VERSION:2.0
METHOD:PUBLISH
BEGIN:VEVENT
UID:WILD_APRICOT_EVENT_1980811_SESSION_1
DTSTART:20150802T023000Z
DTEND:20150802T073000Z
SUMMARY:Lunch at the Elizabethan Village Pub
LOCATION:25 Canns Road\, Bedfordale\, WA 6112
DESCRIPTION:https://www.bmwclubwa.asn.au/event-1980811\n\nEnjoy lunch with the Club on Sunday 2nd August at the Elizabethan Village Pub in Bedfordale. The Pub is located in the hills region off Canns road. The Elizabethan Village is a recreation of a period English Village from the era of William Shakespeare. The Village and the associated buildings and surrounds were created in 1992 as a result of efforts by Mr Leo Fowler who wanted to bring a little of Shakespeare to Perth. This is a new venue for our club and is apparently popular with other car clubs.  For the event\, our host has graciously given us permission to display our cars on the Village Green.  We will be meeting at 10.30AM at Hartfield Reserve\, Forrestfield.  We will leave Forrestfield at 11.00 AM for a simple 30-45 min navigation run up and across the top of the escarpment\, down through Roleystone and back up into the hills via Churchman’s Brook Reservoir.  \n  Bookings essential please to Mike Wakefield by 26 July: mp.wakefield@optusnet.com.au\n  \n\n
DTSTAMP:20190228T231140Z
END:VEVENT
END:VCALENDAR
