BEGIN:VCALENDAR
VERSION:2.0
METHOD:PUBLISH
BEGIN:VEVENT
UID:WILD_APRICOT_EVENT_2031383_SESSION_1
DTSTART:20151206T043000Z
DTEND:20151206T080000Z
SUMMARY:Club AGM and Champagne Lunch
LOCATION:Houghton Winery\, Swan Valley
DESCRIPTION:https://www.bmwclubwa.asn.au/event-2031383\n\nOur annual Christmas wind-up event\, a picnic lunch under the trees at the Houghton Winery\, coupled with our Annual General Meeting.\n \n Lunch will be provided by the Club and Houghton's fine wines are available at the cellar door. A complementary champagne on arrival for all (adult) attendees will kick off the Christmas spirit.\n\n  Travel direct to the Winery planning to arrive by 12.30\, there is no convoy run from Auto Classic this year. Look for the Club banner under the trees.\n
DTSTAMP:20260424T162607Z
END:VEVENT
END:VCALENDAR
