BEGIN:VCALENDAR
VERSION:2.0
METHOD:PUBLISH
BEGIN:VEVENT
UID:WILD_APRICOT_EVENT_2091544_SESSION_1
DTSTART:20160206T013000Z
DTEND:20160206T033000Z
SUMMARY:Technical Saturday Morning
LOCATION:Westcoast BMW\, 17 Luisini Drive\, Wangara
DESCRIPTION:https://www.bmwclubwa.asn.au/event-2091544\n\nBMW is world famous for its technological expertise. Come to Westcoast BMW to find out about current technological developments and innovations from their Service Manager\, Master Technician and Parts Specialist. Ask questions about your BMW in an relaxed and friendly environment. \n  Tour the impressive facilities and view the new BMW range in Australia's biggest BMW showroom. Enjoy Westcoast's famous hospitality.\n\n  RSVP by 29 January to president@bmwclubwa.asn.au\n  The Westcoast BMW Promotional Commercial can be viewed at:\n  https://www.youtube.com/watch?v=C9aWywc6BfQ\n  \n\n  \n\n
DTSTAMP:20190228T230928Z
END:VEVENT
END:VCALENDAR
