BEGIN:VCALENDAR
VERSION:2.0
METHOD:PUBLISH
BEGIN:VEVENT
UID:WILD_APRICOT_EVENT_2091545_SESSION_1
DTSTART:20160214T010000Z
DTEND:20160214T030000Z
SUMMARY:Champagne Breakfast
LOCATION:Masonmill Gardens\, 40 Masonmill Road\, Carmel\, WA 6076
DESCRIPTION:https://www.bmwclubwa.asn.au/event-2091545\n\nSunday breakfast at the impressive Masonmill Gardens Restaurant\, with a glass of bubbly to toast the Club's new year calendar of events in a relaxed setting.\n  Re-introduce yourself to like-minded members after the summer break.\n  No major driving challenge\, just an easy drive to the venue and some relaxed camaraderie. A picturesque drive through Bickley Valley has been planned after breakfast for those who would like to participate.\n  Please note bookings have now closed for this event. \n  Further information available by emailing president@bmwclubwa.asn.au \n  \n\n
DTSTAMP:20260424T162555Z
END:VEVENT
END:VCALENDAR
