BEGIN:VCALENDAR
VERSION:2.0
METHOD:PUBLISH
BEGIN:VEVENT
UID:WILD_APRICOT_EVENT_2122655_SESSION_1
DTSTART:20160603T013000Z
DTEND:20160606T090000Z
SUMMARY:Weekend Away to the Albany Classic Sportscar Race
LOCATION:Albany via Pemberton\, Walpole & Denmark
DESCRIPTION:https://www.bmwclubwa.asn.au/event-2122655\n\nLong Weekend Away to the Albany Classic Vintage Sportscar Race around the Town and Hill Climb event.\n \n A tour to the Great Southern Region as a Club group on the June long weekend\, to take in the vintage sports car racing in Albany and all the sights\, sounds and tastes of the region.\n\n  Registrations have closed. If you would like to be on the wait list should the situation change\, please contact: president@bmwclubwa.asn.au \n  Fore more information visit The Albany Classic website: www.albanyclassic.com\n  \n\n
DTSTAMP:20190228T230701Z
END:VEVENT
END:VCALENDAR
