BEGIN:VCALENDAR
VERSION:2.0
METHOD:PUBLISH
BEGIN:VEVENT
UID:WILD_APRICOT_EVENT_2123195_SESSION_1
DTSTART:20160224T110000Z
DTEND:20160224T110000Z
SUMMARY:Questions? Ask a BMW Genius - E8x & E9x Models
LOCATION:Auto Classic BMW
DESCRIPTION:https://www.bmwclubwa.asn.au/event-2123195\n\nA BMW Genius knows every BMW inside out and is trained to demonstrate and help familiarise customers with all aspects of their BMW.\n  During 2016 we will be organising opportunities for Club members to visit Auto Classic BMW where their product Genius will explain the latest technology and answer questions about the features of your car. Ideally suited for owners of more recent models so they can fully appreciate all that their Ultimate Driving Machines have to offer.\n  Topics covered will include DCT Drivelogic\, Customer Settings\, Bluetooth Connectivity\, Engine and Servicing considerations. Bluetooth and multimedia connectivity updates may be available free of charge for BMWs built in mid-2010 onwards.\n  BMW Navigation updates are also offered at the significantly reduced cost of $99.00 for a Disc\, and $139.00 for the digital option.\n  We invite Club members to register for the following sessions:\n      * E8x and E9x series models\, Wednesday 24 February at 7.00PM\n\n        * F Series models\, Wednesday 9 March at 7.00PM\n\n        * E and F Series M3 & M4’s\, Wednesday 23 March at 7.00PM\n\n        * E60 5 Series\, E63 6 Series and E66 7 Series Wednesday 30 March at 7.00PM\n\n        * X Series (Post 2006) Wednesday 6 April at 7.00PM.\n\n  If your model is not included above let me know and I will slot you into a group with similar systems/I Drive set-up.\n  To register for a session please reply to the email we sent by 17 February.  \n  Any queries please contact me on 0407 983 484\, or John Slade on 0402 025 277.\n  Kind regards\,\n  Andrew Ford\n  \n\n
DTSTAMP:20190228T230904Z
END:VEVENT
END:VCALENDAR
