BEGIN:VCALENDAR
VERSION:2.0
METHOD:PUBLISH
BEGIN:VEVENT
UID:WILD_APRICOT_EVENT_2158645_SESSION_1
DTSTART:20161113T020000Z
DTEND:20161113T080000Z
SUMMARY:BMW Club WA Centenary Celebration Show'N'Shine
LOCATION:Manners Hill Park\, Peppermint Grove
DESCRIPTION:https://www.bmwclubwa.asn.au/event-2158645\n\nOur traditional Club Show'N'Shine\, held on the banks of the Swan in Peppermint Grove as a car display and club picnic. This year it will mark 100 years of the BMW marque\, so classic and special edition cars will be most welcome. Prizes are awarded to the best-kept BMWs in a range of classes.\n\n  Club Sponsors will be participating including vehicle displays from Westcoast BMW and Auto Classic BMW. Michael from Diamond Cut Wheel Specialist and Doug from Auto Pro Dent Removal will also be available to give advice on any issues you have with your pride and joy.\n  The following link takes you to a great short film made by AJ Film and Photography of some of the BMWs on display at last year’s event: https://www.facebook.com/ajfilmandphotography/videos\n  \n\n
DTSTAMP:20190228T230519Z
END:VEVENT
END:VCALENDAR
