BEGIN:VCALENDAR
VERSION:2.0
METHOD:PUBLISH
BEGIN:VEVENT
UID:WILD_APRICOT_EVENT_2158647_SESSION_1
DTSTART:20161204T040000Z
DTEND:20161204T080000Z
SUMMARY:BMW Club WA Christmas Picnic Lunch and AGM
LOCATION:The Houghton Winery\, Swan Valley
DESCRIPTION:https://www.bmwclubwa.asn.au/event-2158647\n\nThe Club will provide a catered picnic lunch and a complimentary glass of Houghton sparkling wine under the shady pine trees by the Old Homestead at The Houghton Winery. Bring the family\,  picnic chairs and hats as we enjoy the conviviality of our final event of the year and deal with the formalities of the Annual General Meeting to elect next year's Committee.\n  \n\n  \n\n
DTSTAMP:20260424T162320Z
END:VEVENT
END:VCALENDAR
