BEGIN:VCALENDAR
VERSION:2.0
METHOD:PUBLISH
BEGIN:VEVENT
UID:WILD_APRICOT_EVENT_2158650_SESSION_1
DTSTART:20160508T020000Z
DTEND:20160508T020000Z
SUMMARY:Club Run to York Motor Museum
LOCATION:York\, from convoy point at Auto Classic
DESCRIPTION:https://www.bmwclubwa.asn.au/event-2158650\n\nMeet at Auto Classic in Victoria Park at 10.00 am for a 10.30 am departure on a cruise to York for a lunch in the town at the York Carriage Diner and a visit to the recently refurbished and famous York Motor Museum. Lots of interesting automotive history and some amazing vehicles on display.\n  Display parking for our cars has been arranged at the Diner on arrival.After lunch\, see the sights of York\, visit a variety of local shops or even go for a tour of the Motor Museum. What could be a better way to spoil Mum on Mothers’ Day?\n  Please RSVP to Stephen Hinsley\, our Event Organiser\, on Stephen@hhbiz.com.au  so he can keep the venue informed of numbers for booking purposes.\n  \n\n  
DTSTAMP:20190228T230736Z
END:VEVENT
END:VCALENDAR
