BEGIN:VCALENDAR
VERSION:2.0
METHOD:PUBLISH
BEGIN:VEVENT
UID:WILD_APRICOT_EVENT_2158658_SESSION_1
DTSTART:20160626T020000Z
DTEND:20160626T080000Z
SUMMARY:Sunday Lunch at Lake Charlotte Winery
LOCATION:Lake Charlotte Winery Cafe\, 4750 Bailup Road Wooroloo
DESCRIPTION:https://www.bmwclubwa.asn.au/event-2158658\n\nCongregate at Auto Classic at 10.00 am for a 10.30 am start on a drive through the hills to Lake Charlotte Winery Cafe\, out the back of Wooroloo and by a pretty lake\, for a relaxing Sunday lunch.\n  RSVPs will be necessary to book your seats at the table\, so please reply to Event Coordinator Stuart MacGregor on stuart.r.macgregor@gmail.com.\n  \n\n
DTSTAMP:20190228T230650Z
END:VEVENT
END:VCALENDAR
