BEGIN:VCALENDAR
VERSION:2.0
METHOD:PUBLISH
BEGIN:VEVENT
UID:WILD_APRICOT_EVENT_2158665_SESSION_1
DTSTART:20160514T070000Z
DTEND:20160514T100000Z
SUMMARY:BMW Club WA Advanced Driver Training - Session 1
LOCATION:RAC Driver Training & Education Centre\, Grogan Road\, Perth Airport
DESCRIPTION:https://www.bmwclubwa.asn.au/event-2158665\n\nThe Club has booked the track at the RAC Driving Centre for up to 20 members and partners to have a Tuning Session in their BMWs.\n  There will be expert instructors on hand to assist you and teach you better car handling skills in a safe\, track environment. All skill levels and aspirations are catered for and no-one is forced to go any faster than they are comfortable with\, while you learn to stretch your (and your car's) capabilities. The skills learned on the day can make a serious contribution to the safety of your driving experience on the public roads.\n  The cost will be $100 per driver (cars can be shared between partners) and we will organise you to register and pay the fee through the Club website\, a little closer to the time.\n  You will need a roadworthy vehicle\, a driver's licence\, long-sleeved clothing and a proper crash helmet - that's all. No fire extinguishers required for this event.\n  The Club will provide snacks and soft drinks throughout the afternoon.\n\n  \n\n
DTSTAMP:20190228T230723Z
END:VEVENT
END:VCALENDAR
