BEGIN:VCALENDAR
VERSION:2.0
METHOD:PUBLISH
BEGIN:VEVENT
UID:WILD_APRICOT_EVENT_2158678_SESSION_1
DTSTART:20161002T010000Z
DTEND:20161002T080000Z
SUMMARY:Como Rotary Club Car Show
LOCATION:Wesley College Playing Fields\, Angelo Street South Perth
DESCRIPTION:https://www.bmwclubwa.asn.au/event-2158678\n\nDisplay your BMW at the Car Show\, in amongst 100s of other classic cars of all shapes and sizes\, as part of a fundraiser for worthy causes. Or alternatively\, just come along and admire all the cars on display for charity.\n  Club members can put their vehicles on display\, then go and have coffee\, brunch\, lunch\, arvo tea or even a beer or two in any one of the myriad local cafes and bars on Angelo Street\, on a beautiful spring day.\n  This years Club display will be part of our local homage to BMW's 100 Years Celebration.\n\n
DTSTAMP:20190228T230543Z
END:VEVENT
END:VCALENDAR
