BEGIN:VCALENDAR
VERSION:2.0
METHOD:PUBLISH
BEGIN:VEVENT
UID:WILD_APRICOT_EVENT_2158680_SESSION_1
DTSTART:20160818T110000Z
DTEND:20160818T130000Z
SUMMARY:Alfred's Kitchen Rules
LOCATION:Alfred's Kitchen Burger Bar\, Guildford
DESCRIPTION:https://www.bmwclubwa.asn.au/event-2158680\n\nWho cares if it's the middle of winter and it's cold - what you need is to come and sit by the log fire (first in\, best dressed) at Alfred's Kitchen in Guildford and partake of one or more of his finest burgers while quaffing BYO red wine out of plastic cups and amusing the locals and the tourists with your tales of extreme BM'ing.\n  No major organisation required for this one\, just rock up with some warm clothes from about 7.00 pm to catch up with your fellow BMW Club adventurers.\n\n
DTSTAMP:20260424T162650Z
END:VEVENT
END:VCALENDAR
