BEGIN:VCALENDAR
VERSION:2.0
METHOD:PUBLISH
BEGIN:VEVENT
UID:WILD_APRICOT_EVENT_2158684_SESSION_1
DTSTART:20160702T050000Z
DTEND:20160702T080000Z
SUMMARY:Indoor Games Afternoon
LOCATION:The Simulation Centre\, Unit 5\, 5 Hughes St Canning Vale
DESCRIPTION:https://www.bmwclubwa.asn.au/event-2158684\n\nNot your ordinary indoor games\, The Simulation Centre provides 3D experiences of golf and other ball sports and\, wait for it\, race car driving simulations.\n  You can drive at Bathurst in a V8 Supercar or a BMW\, learn the track and achieve a serious race time\, all the time using the controls in a real-time\, force-fed environment. Sounds like too much fun\, with absolutely no danger if you crash.\n  There's a licenced bar and cafe too\, so you can shout the bar when you break the lap record at Mount Panorama.\n  There's 3D movies and lots of other stuff for the kids to do so bring the family too.\n\n
DTSTAMP:20190228T230639Z
END:VEVENT
END:VCALENDAR
