BEGIN:VCALENDAR
VERSION:2.0
METHOD:PUBLISH
BEGIN:VEVENT
UID:WILD_APRICOT_EVENT_2183318_SESSION_1
DTSTART:20170413T160000Z
DTEND:20170417T160000Z
SUMMARY:BMW Clubs Australia - Nationals 2017
LOCATION:Brisbane\, Queensland
DESCRIPTION:https://www.bmwclubwa.asn.au/event-2183318\n\nEaster 2017 will give BMW club members from across\n Australia\, such as you\, the chance to experience Brisbane\n as you've never seen it.\n The scenic capital of the Sunshine State has many secrets\n and surprises that will be revealed to you. Brisbane is\n blessed with its scenic river and hilly features\, a compact\n city heart and excellent road network\; not to mention\n Australia’s friendliest people.\n The 2017 Nationals will be based in the heart of Brisbane\n at vibrant Kangaroo Point\, directly adjacent to the iconic\n Story Bridge. The variety and choice of venues offered by\n this central city location will guarantee you experience\n Brisbane as you've never seen it.\n We invite club members from ALL over Australia to join us\n for Easter with special accommodation deals at Dockside\n Central Apartments\, our Club sponsor. Great deals have\n been negotiated\, so come and stay for the Easter break to\n enjoy all the many activities of offer.\n  Click on the link here to read all the detail of what's on offer for members who travel to Brisbane for the next Nationals event.\n\n
DTSTAMP:20190228T230346Z
END:VEVENT
END:VCALENDAR
