BEGIN:VCALENDAR
VERSION:2.0
METHOD:PUBLISH
BEGIN:VEVENT
UID:WILD_APRICOT_EVENT_2189732_SESSION_1
DTSTART:20160416T110000Z
DTEND:20160416T140000Z
SUMMARY:Dinner with Mother India
LOCATION:Mother India Restaurant\, 23 Forrest Street\, Fremantle
DESCRIPTION:https://www.bmwclubwa.asn.au/event-2189732\n\nA relaxed and friendly Indian family cafe/restaurant\, Mother India provides a very popular authentic Indian cuisine and comes recommended.\n  It's BYO and charges no corkage. It also only takes cash so bring the necessary with you. Our hosts suggest that the $33 Banquet is the way to go and we will book out the rear dining room exclusively for Club members. Arrivals should be from 7.00 pm for a 7.30 pm start. \n  This was a RSVP only occasion and registrations are now closed for this event. \n  \n\n  \n\n   \n\n
DTSTAMP:20260424T162344Z
END:VEVENT
END:VCALENDAR
