BEGIN:VCALENDAR
VERSION:2.0
METHOD:PUBLISH
BEGIN:VEVENT
UID:WILD_APRICOT_EVENT_2214641_SESSION_1
DTSTART:20160515T021500Z
DTEND:20160515T073000Z
SUMMARY:British Car Day followed by Lunch in Chittering
LOCATION:Meet at Stirling Square Park\, Meadow Street Guildford
DESCRIPTION:https://www.bmwclubwa.asn.au/event-2214641\n\nA Club Run to the British Car Day at Gingin\, departing from Guildford at 10.15AM (sharp) and arriving as a group for the opportunity to see the great British marques. We are planning a restaurant lunch in Chittering at the Stringybark Winery.\n  A very enjoyable day including great cars from modern to classics\, driving and lunch in good company.\n  Please RSVP by 5 May or before if you wish to attend\, email: president@bmwclubwa.asn.au\, numbers may be limited at the restaurant so firm replies are essential please.\n  \n\n  \n\n
DTSTAMP:20190228T230712Z
END:VEVENT
END:VCALENDAR
