BEGIN:VCALENDAR
VERSION:2.0
METHOD:PUBLISH
BEGIN:VEVENT
UID:WILD_APRICOT_EVENT_2233803_SESSION_1
DTSTART:20160504T100000Z
DTEND:20160504T120000Z
SUMMARY:BMW M6 GT3 Viewing and Q & A
LOCATION:Auto Classic
DESCRIPTION:https://www.bmwclubwa.asn.au/event-2233803\n\nBMW's new M6 GT3 will be racing  in the V8 Supercars Perth Supersprint next weekend and you can have a special viewing of the car\, and speak with driver Steve Richards\, at Auto Classic next Wednesday.\n  Please see the attached flyer here for details and RSVP to the Club by responding to the email we've sent about this special event.\n  \n\n
DTSTAMP:20190228T230747Z
END:VEVENT
END:VCALENDAR
