BEGIN:VCALENDAR
VERSION:2.0
METHOD:PUBLISH
BEGIN:VEVENT
UID:WILD_APRICOT_EVENT_2283495_SESSION_1
DTSTART:20160724T020000Z
DTEND:20160724T040000Z
SUMMARY:Coffee Meeting
LOCATION:Little Way Cafe Restaurant\, 161 Broadway in Nedlands (River end)
DESCRIPTION:https://www.bmwclubwa.asn.au/event-2283495\n\nJoin us for a relaxed coffee meeting on Sunday 24 July\, from 10.00AM to Noon at the Little Way Cafe Restaurant.\n  This is a deliberately informal event aimed at bringing people together in a relaxed and social setting. RSVP’s are not required and you can simply come along and enjoy the conversation.\n  Little Way is located at 161 Broadway in Nedlands (River end) and is a heritage building that offers plenty of charm\, garden courtyard and street side dining.\n  With the exception of the reserved room I have set aside\, the Cafe does not take table reservations for breakfast on weekends\, however Little Way does offer indoor and garden courtyard tables so there is plenty of choice.\n  For more information please go to: www.littleway.com.au\n  \n\n
DTSTAMP:20190228T230628Z
END:VEVENT
END:VCALENDAR
