BEGIN:VCALENDAR
VERSION:2.0
METHOD:PUBLISH
BEGIN:VEVENT
UID:WILD_APRICOT_EVENT_2294941_SESSION_1
DTSTART:20161016T023000Z
DTEND:20161016T073000Z
SUMMARY:Spring Lunch in the Valley
LOCATION:Swanbrook Winery & Cafe\, 38 Swan Street\, Henley Brook
DESCRIPTION:https://www.bmwclubwa.asn.au/event-2294941\n\nStarting from Auto Classic at 10.30 am\, we will find our way to Swanbrook Winery and Cafe for a leisurely Sunday Lunch.\n  We are planning a run through the hills as part of our approach to the Winery (to generate a thirst and an appetite) and this will take about 90 minutes over about 85 kms.\n  Those who arrive early at Swanbrook or choose to go straight there can indulge in a wine tasting before ordering lunch.\n\n  The food is simple but delicious\, reasonably priced and good quality. This is an opportunity to meet or renew friendships with fellow Club members in a relaxed and friendly atmosphere - while enjoying live music on a Sunday.. \n  We have a preliminary booking for 25 people and will ask for RSVPs a little closer to the date.\n\n  \n\n
DTSTAMP:20190228T230531Z
END:VEVENT
END:VCALENDAR
