BEGIN:VCALENDAR
VERSION:2.0
METHOD:PUBLISH
BEGIN:VEVENT
UID:WILD_APRICOT_EVENT_2294945_SESSION_1
DTSTART:20160821T033000Z
DTEND:20160821T053000Z
SUMMARY:Coffee Meeting
LOCATION:Bayside Kitchen Cafe\, 5 Hackett Drive\, Crawley (near Matilda Bay facing the river)
DESCRIPTION:https://www.bmwclubwa.asn.au/event-2294945\n\nJoin us for a relaxed coffee meeting on Sunday 21 August\, from 11.30AM to 1.30PM at the Bayside Kitchen Cafe.\n\n  An informal event to bring people together in a relaxed and social setting. RSVP’s are not required simply come along and enjoy the conversation.\n  The Bayside Kitchen is located at 5 Hackett Drive\, in Crawley (near Matilda Bay facing the river) and offers a great view and coffee.\n  For more information please go to: https://www.zomato.com/perth/bayside-kitchen-nedlands-dalkeith\n  \n\n
DTSTAMP:20190228T230606Z
END:VEVENT
END:VCALENDAR
