BEGIN:VCALENDAR
VERSION:2.0
METHOD:PUBLISH
BEGIN:VEVENT
UID:WILD_APRICOT_EVENT_2317496_SESSION_1
DTSTART:20160911T020000Z
DTEND:20160911T083000Z
SUMMARY:Spring in the Valleys
LOCATION:Toodyay\, Chittering
DESCRIPTION:https://www.bmwclubwa.asn.au/event-2317496\n\nNot the Swan Valley\, but rather a refreshing power drive through the Avon and Chittering Valleys\, interspersed with some lunch in historic Toodyay.\n  Follow some sections of the course for the recent Targa West event and enjoy some winding roads in the Spring sunshine.\n  Leave from Auto Classic by 10.30 am and enjoy the green valleys and the wildflowers while driving your BMW as it was meant to be driven.\n\n
DTSTAMP:20260424T164044Z
END:VEVENT
END:VCALENDAR
