BEGIN:VCALENDAR
VERSION:2.0
METHOD:PUBLISH
BEGIN:VEVENT
UID:WILD_APRICOT_EVENT_2433885_SESSION_1
DTSTART:20170326T010000Z
DTEND:20170326T070000Z
SUMMARY:German Car Day
LOCATION:Auto Classic BMW drive to a destination to be announced
DESCRIPTION:https://www.bmwclubwa.asn.au/event-2433885\n\nGerman Car Day is a Drive and Display event supported by all the German car clubs - BMW\, Mercedes Benz\, Porsche\, Audi and Volkswagen\, as well as a few German-built Fords. We congregate at a car park in East Perth before driving in convoy to our destination to display our cars to the public.\n  The event costs $10 per car\, the funds raised going to the Wheels for Hope charity.\n  Last year's destination was the Town of Dwellingup in our South West and the 2017 destination will be announced soon. \n  The BMW Club will meet at Auto Classic at 9.00 am\, so we can arrive together at the event start point located at the corner of Plain Street and Nelson Crescent East Perth by 9.15AM. \n  If you would like to attend please RSVP by Monday 20 March to president@bmwclubwa.asn.au\n  A short film of the 2015 event is available here (look in the All Videos Section):https://www.facebook.com/ajfilmandphotography/videos?ref=page_internal\n  \n\n
DTSTAMP:20190228T230420Z
END:VEVENT
END:VCALENDAR
