BEGIN:VCALENDAR
VERSION:2.0
METHOD:PUBLISH
BEGIN:VEVENT
UID:WILD_APRICOT_EVENT_2457064_SESSION_1
DTSTART:20171210T040000Z
DTEND:20171210T080000Z
SUMMARY:BMW Club WA AGM and Christmas Picnic Lunch
LOCATION:The Houghton Winery\, Swan Valley
DESCRIPTION:https://www.bmwclubwa.asn.au/event-2457064\n\nThe Club will provide a catered picnic lunch and a complimentary glass of Houghton sparkling wine under the shady pine trees by the Old Homestead at The Houghton Winery. Bring the family\,  picnic chairs and hats as we enjoy the conviviality of our final event of the year and deal with the formalities of the Annual General Meeting to elect next year's Committee.\n  Please note: Event registrations have closed as we have reached our catering numbers.\n
DTSTAMP:20260424T162407Z
END:VEVENT
END:VCALENDAR
