BEGIN:VCALENDAR
VERSION:2.0
METHOD:PUBLISH
BEGIN:VEVENT
UID:WILD_APRICOT_EVENT_2457067_SESSION_1
DTSTART:20171112T020000Z
DTEND:20171112T080000Z
SUMMARY:BMW Club WA Show'N'Shine and Car Display
LOCATION:Peppermint Grove
DESCRIPTION:https://www.bmwclubwa.asn.au/event-2457067\n\nOur traditional Club Show'N'Shine\, held on the banks of the Swan in Peppermint Grove as a car display and club picnic. Classic and special edition cars will be most welcome. Prizes from BMW Group Australia are awarded to the best-kept BMWs in a range of classes.\n\n  Club sponsors will be participating including a vehicle display from Auto Classic BMW. Diamond Cut Wheel Specialist and Auto Pro Dent Removal will also be available to give advice on any issues you have with your pride and joy.\n  The following link takes you to a great short film made by AJ Film and Photography of some of the BMWs on display at last year’s event: https://www.facebook.com/ajfilmandphotography/videos\n  \n\n
DTSTAMP:20190228T230120Z
END:VEVENT
END:VCALENDAR
