BEGIN:VCALENDAR
VERSION:2.0
METHOD:PUBLISH
BEGIN:VEVENT
UID:WILD_APRICOT_EVENT_2457121_SESSION_1
DTSTART:20170318T013000Z
DTEND:20170318T043000Z
SUMMARY:Technical Saturday Morning and 5 Series Launch
LOCATION:Westcoast BMW\, 17 Luisini Drive\, Wangara
DESCRIPTION:https://www.bmwclubwa.asn.au/event-2457121\n\nBMW is world famous for its technological expertise. Come to Westcoast BMW to find out about current technological developments and innovations from their Service Manager\, Master Technician and Parts Specialist. Ask questions about your BMW in a relaxed and friendly environment.   \n\n  The highlight of the morning will be a technical presentation of the brand-new 5Series that will have just arrived on the showroom floor. Some background information can be found at\n  http://www.drive.com.au/new-car-reviews/2017-bmw-5series-first-drive-review-20161211-gt8t3n.html?eid=cpc:nnn-15omn0938-optim-nnn:google_adwords-bau_paid_search_campaign-dom-textad-nnn-drive-nnn&campaign_code=15caf041&promote_channel=sem&utm_source=google_adwords&utm_medium=cpc&utm_campaign=bau2015&gclid=CPb4pOTY_9ECFYcrvQodMSAEfg\n  Tour the impressive facilities and view the new BMW range in Australia's biggest BMW showroom. Enjoy Westcoast's famous hospitality. Partners and kids are most welcome.\n\n  RSVP to president@bmwclubwa.asn.au.\n  The Westcoast BMW Promotional Commercial can be viewed at:\n  https://www.youtube.com/watch?v=C9aWywc6BfQ\n
DTSTAMP:20260424T162527Z
END:VEVENT
END:VCALENDAR
