BEGIN:VCALENDAR
VERSION:2.0
METHOD:PUBLISH
BEGIN:VEVENT
UID:WILD_APRICOT_EVENT_2513961_SESSION_1
DTSTART:20170917T020000Z
DTEND:20170917T073000Z
SUMMARY:Spring in the Valleys – with the Porsche Club WA
LOCATION:BP Service Station\, Kwinana Freeway\, Baldivis - rendezvous
DESCRIPTION:https://www.bmwclubwa.asn.au/event-2513961\n\nA refreshing power drive through the valleys and winding roads in the Darling Range south of Perth\, interspersed with lunch in Dwellingup at the Dwellingup Hotel\, who have a great 'pub food' menu for us.\n  Please Note Reservations have closed for this event.\n  \n\n
DTSTAMP:20190228T230215Z
END:VEVENT
END:VCALENDAR
