BEGIN:VCALENDAR
VERSION:2.0
METHOD:PUBLISH
BEGIN:VEVENT
UID:WILD_APRICOT_EVENT_2525826_SESSION_1
DTSTART:20170528T003000Z
DTEND:20170528T023000Z
SUMMARY:Classic Cars & Coffee
LOCATION:Carpark 3\, UWA\, Hackett Drive\, Crawley
DESCRIPTION:https://www.bmwclubwa.asn.au/event-2525826\n\nThe second of the new format Classic Cars & Coffee events - not an official BMW Club event\, but great for all of those interested in classic and exotic cars. \n  More information is available from classiccarsandcoffee.com \n  \n\n  \n\n
DTSTAMP:20190228T230323Z
END:VEVENT
END:VCALENDAR
