BEGIN:VCALENDAR
VERSION:2.0
METHOD:PUBLISH
BEGIN:VEVENT
UID:WILD_APRICOT_EVENT_2594923_SESSION_1
DTSTART:20170827T013000Z
DTEND:20170827T090000Z
SUMMARY:York Motor Museum Run
LOCATION:York\, WA
DESCRIPTION:https://www.bmwclubwa.asn.au/event-2594923\n\nClub run to York for lunch at The Palace Hotel and a tour of the famous York Motor Museum with 55 cars on display.\n  Reserved parking at the Hotel has been arranged and we will be able\, apart from touring the museum\, to explore the colonial delights of one of our oldest settlements as well as enjoying the thrill of the open road. \n  Please note Registration has now closed for this event.\n\n
DTSTAMP:20190228T230238Z
END:VEVENT
END:VCALENDAR
