BEGIN:VCALENDAR
VERSION:2.0
METHOD:PUBLISH
BEGIN:VEVENT
UID:WILD_APRICOT_EVENT_2594932_SESSION_1
DTSTART:20171029T020000Z
DTEND:20171029T040000Z
SUMMARY:Coffee Morning at Kalamunda
LOCATION:Suburban Hills Area
DESCRIPTION:https://www.bmwclubwa.asn.au/event-2594932\n\nDetails to be confirmed closer to the time but the destination for Sunday morning tea will be somewhere not far from Kalamunda.\n\n
DTSTAMP:20190228T230131Z
END:VEVENT
END:VCALENDAR
