BEGIN:VCALENDAR
VERSION:2.0
METHOD:PUBLISH
BEGIN:VEVENT
UID:WILD_APRICOT_EVENT_2617863_SESSION_1
DTSTART:20170806T003000Z
DTEND:20170806T023000Z
SUMMARY:Classic Cars and Coffee
LOCATION:University of WA Business School Car Park
DESCRIPTION:https://www.bmwclubwa.asn.au/event-2617863\n\nYou're invited to Cars & Coffee August! Park up your pride and joy with other great prestige\, specialist and collectible cars. Or just come along and enjoy the motoring eye candy! Savour your morning coffee and catch up with fellow motoring enthusiasts!\n\n  The Patron Beverage Company’s fabulous Citroen H-Van will be there to provide you with delicious coffee.\n\n  If you have friends who are car aficionados and would love to display their exotic\, classic or vintage automobiles\, please feel free to invite them along.\n  The event is free to attend.\n\n  DETAILS:\n  Sunday – 6 August 2017\n  8:30am – 10:30am\n  Event Winter Venue:\n\n  UWA Business School Car Park\n  3 Hackett Drive\, Crawley\n  \n (There is undercover space if wet\, or outdoors if sunny)\n  For more information on the event or to get on their mailing list\, please visit Classic Cars & Coffee.\nSee you there!\n
DTSTAMP:20190228T230249Z
END:VEVENT
END:VCALENDAR
