BEGIN:VCALENDAR
VERSION:2.0
METHOD:PUBLISH
BEGIN:VEVENT
UID:WILD_APRICOT_EVENT_2665686_SESSION_1
DTSTART:20171008T014500Z
DTEND:20171008T070000Z
SUMMARY:Return to York
LOCATION:York\, WA
DESCRIPTION:https://www.bmwclubwa.asn.au/event-2665686\n\nDue to the success of the recent run to York we are holding a second event on Sunday 8 October.\n  To enjoy a great spring weather drive in your BMW\, lunch at the lovely York Palace Hotel with reserved parking included\, RSVP by 29 September or before to: president@bmwclubwa.asn.au\n  Registrations Now Closed.\n  \n\n
DTSTAMP:20190228T230142Z
END:VEVENT
END:VCALENDAR
